BEGIN:VCALENDAR
VERSION:1.0
BEGIN:VEVENT
CATEGORIES:
STATUS:CONFIRMED
DTSTART:20190226T180000Z
DTEND:20190226T190000Z
SUMMARY:Start:up Müsli: INSTAGRAM\, FACEBOOK IN EMAIL V PRAKSI 
DESCRIPTION:S pojavom novih tehnologij in družbenih omrežij postaja komunikacija podjetja s kupci vedno bolj zahtevna in kompleksna. Z njimi lažje in hitreje dosežemo več ljudi\, jih segmentiramo glede na njihove interese jim ponudimo točno to\, kar potrebujejo. Ko že imamo občutek\, da obvladamo eno platformo\, se pojavijo nove funkcionalnosti\, ki omogočajo še večji doseg in boljše ciljanje uporabnikov.  \n\n
LOCATION:@KID KIBLA\, Maribor
END:VEVENT
END:VCALENDAR