BEGIN:VCALENDAR
VERSION:1.0
BEGIN:VEVENT
CATEGORIES:
STATUS:CONFIRMED
DTSTART:20181115T090000Z
DTEND:20181115T100000Z
SUMMARY:Innovation Jam Start:up Maribor  
DESCRIPTION: \n\n
LOCATION:Tovarna podjemov\, podjetniški inkubator UM
END:VEVENT
END:VCALENDAR