BEGIN:VCALENDAR
VERSION:1.0
BEGIN:VEVENT
CATEGORIES:
STATUS:CONFIRMED
DTSTART:20230310T150000Z
DTEND:20230310T160000Z
SUMMARY:START:UP VIKEND MARIBOR 2023
DESCRIPTION:Pridruži se nam na Start:up vikendu v Mariboru in razvij veščine\, ki so nujno potrebne za tvoj podjetniški uspeh! \n\n
LOCATION: Tovarna podjemov
END:VEVENT
END:VCALENDAR