BEGIN:VCALENDAR
VERSION:2.0
PRODID:-//AddThisEvent.com v1.0//EN
BEGIN:VEVENT
DTSTAMP:20191127T074500Z
ORGANIZER;CN=STARTUP:MAILTO:info@startup.si
STATUS:CONFIRMED
DTSTART:20191127T074500Z
DTEND:20191127T084500Z
SUMMARY:VAVČERSKA PODPORA za mala in srednja podjetja
DESCRIPTION:Slovenski podjetniški sklad je razpisal več vavčerjev\, s katerimi lahko pospešite razvoj svojega podjetja. Osnovni namen projekta oz. t.i. vavčerskega sistema je vzpostavitev sistema dodeljevanja spodbud manjših vrednosti\, ki omogoča bistveno poenostavljen dostop do sofinanciranja  posameznih storitev\, s pomočjo katerih lahko podjetja krepijo svojo konkurenčnost in kompetence. Trenutno se lahko prijavite na 12 različnih vavčerjev\, prijava na enega\, ne izključuje prijave na druge vavčerje.  \n\n
X-ALT-DESC;FMTTYPE=text/html:Slovenski podjetniški sklad je razpisal več vavčerjev\, s katerimi lahko pospešite razvoj svojega podjetja. Osnovni namen projekta oz. t.i. vavčerskega sistema je vzpostavitev sistema dodeljevanja spodbud manjših vrednosti\, ki omogoča bistveno poenostavljen dostop do sofinanciranja  posameznih storitev\, s pomočjo katerih lahko podjetja krepijo svojo konkurenčnost in kompetence. Trenutno se lahko prijavite na 12 različnih vavčerjev\, prijava na enega\, ne izključuje prijave na druge vavčerje.  \n\n
LOCATION:Tovarna podjemov
END:VEVENT
END:VCALENDAR